BEGIN:VCALENDAR
PRODID:-//eluceo/ical//2.0/EN
VERSION:2.0
CALSCALE:GREGORIAN
BEGIN:VEVENT
UID:202610010000@abelincoln.org/events/big-island-rendezvous-albert-lea-mn
DTSTAMP:20260419T183938Z
SUMMARY:Big Island Rendezvous - Albert Lea\, MN
DESCRIPTION:
DTSTART;VALUE=DATE:20261001
DTEND;VALUE=DATE:20261005
ORGANIZER;CN=Abe Lincoln Live!:mailto:webmaster@fiveq.com
END:VEVENT
END:VCALENDAR
