BEGIN:VCALENDAR
PRODID:-//eluceo/ical//2.0/EN
VERSION:2.0
CALSCALE:GREGORIAN
BEGIN:VEVENT
UID:202607040000@abelincoln.org/events/bong-center
DTSTAMP:20260419T134628Z
SUMMARY:Bong Center - Superior\, WI
DESCRIPTION:
DTSTART;VALUE=DATE:20260704
ORGANIZER;CN=Abe Lincoln Live!:mailto:webmaster@fiveq.com
END:VEVENT
END:VCALENDAR
