BEGIN:VCALENDAR
PRODID:-//eluceo/ical//2.0/EN
VERSION:2.0
CALSCALE:GREGORIAN
BEGIN:VEVENT
UID:202610090000@abelincoln.org/events/lathrop-living-history-festival-miss
 ouri
DTSTAMP:20260419T203600Z
SUMMARY:Lathrop Living History Festival - Missouri
DESCRIPTION:
DTSTART;VALUE=DATE:20261009
DTEND;VALUE=DATE:20261011
ORGANIZER;CN=Abe Lincoln Live!:mailto:webmaster@fiveq.com
END:VEVENT
END:VCALENDAR
